BEGIN:VCALENDAR
PRODID:-//Calendar export
VERSION:2.0
X-WR-TIMEZONE:Etc/GMT
BEGIN:VTIMEZONE
TZID:GMT Standard Time
BEGIN:STANDARD
TZOFFSETFROM:+0000
TZOFFSETTO:+0000
END:STANDARD
END:VTIMEZONE
BEGIN:VEVENT
UID:AE907
DTSTAMP:20260425T204500Z
SUMMARY:(مركز تقنيات التعليم - الجلسة الشتوية (معنى
CLASS:PUBLIC
DESCRIPTION:
STATUS:CONFIRMED
PRIORITY:1
DTSTART:20231212T140000Z
DTEND:20231212T160000Z
TRANSP:OPAQUE
END:VEVENT
END:VCALENDAR
