BEGIN:VCALENDAR
PRODID:-//Calendar export
VERSION:2.0
X-WR-TIMEZONE:Etc/GMT
BEGIN:VTIMEZONE
TZID:GMT Standard Time
BEGIN:STANDARD
TZOFFSETFROM:+0000
TZOFFSETTO:+0000
END:STANDARD
END:VTIMEZONE
BEGIN:VEVENT
UID:AE8083
DTSTAMP:20260423T161900Z
SUMMARY:From Traditional to Post-Quantum:  Today's Crypto Landscape
CLASS:PUBLIC
DESCRIPTION:
STATUS:CONFIRMED
PRIORITY:1
DTSTART:20260416T080000Z
DTEND:20260416T100000Z
TRANSP:OPAQUE
END:VEVENT
END:VCALENDAR
