BEGIN:VCALENDAR
PRODID:-//Calendar export
VERSION:2.0
X-WR-TIMEZONE:Etc/GMT
BEGIN:VTIMEZONE
TZID:GMT Standard Time
BEGIN:STANDARD
TZOFFSETFROM:+0000
TZOFFSETTO:+0000
END:STANDARD
END:VTIMEZONE
BEGIN:VEVENT
UID:AE7065
DTSTAMP:20260423T160800Z
SUMMARY:Semiconductor Industry - Challenges and Innovation
CLASS:PUBLIC
DESCRIPTION:
STATUS:CONFIRMED
PRIORITY:1
DTSTART:20260415T140000Z
DTEND:20260415T150000Z
TRANSP:OPAQUE
END:VEVENT
END:VCALENDAR
