BEGIN:VCALENDAR
PRODID:-//Calendar export
VERSION:2.0
X-WR-TIMEZONE:Etc/GMT
BEGIN:VTIMEZONE
TZID:GMT Standard Time
BEGIN:STANDARD
TZOFFSETFROM:+0000
TZOFFSETTO:+0000
END:STANDARD
END:VTIMEZONE
BEGIN:VEVENT
UID:AE7059
DTSTAMP:20260423T160800Z
SUMMARY:Quantum Series | 01 Quantum Science-Introduction\, QAI indu
 stry Developme
 nt and Technique
CLASS:PUBLIC
DESCRIPTION:
STATUS:CONFIRMED
PRIORITY:1
DTSTART:20260409T080000Z
DTEND:20260409T100000Z
TRANSP:OPAQUE
END:VEVENT
END:VCALENDAR
