BEGIN:VCALENDAR
PRODID:-//Calendar export
VERSION:2.0
X-WR-TIMEZONE:Etc/GMT
BEGIN:VTIMEZONE
TZID:GMT Standard Time
BEGIN:STANDARD
TZOFFSETFROM:+0000
TZOFFSETTO:+0000
END:STANDARD
END:VTIMEZONE
BEGIN:VEVENT
UID:AE6918
DTSTAMP:20260423T195500Z
SUMMARY:Approaches to identifying the contemporary issues in  Socia
 l Science Rese
 arch.
CLASS:PUBLIC
DESCRIPTION:
STATUS:CONFIRMED
PRIORITY:1
DTSTART:20260226T060000Z
DTEND:20260226T080000Z
TRANSP:OPAQUE
END:VEVENT
END:VCALENDAR
